BEGIN:VCALENDAR
VERSION:2.0
PRODID:-//Acme Widgets\, Inc.//NONSGML ExportToCalendar//EN
CALSCALE:GREGORIAN
BEGIN:VEVENT
DTSTAMP:20260423T141005Z
UID:8c76e474-94fa-49c4-8fd9-4c0b956de9ef
DTSTART:20260425T130000
DTEND:20260425T133000
DESCRIPTION:Inspection for 10 First Avenue\, ROSSMOYNE WA 6148
LOCATION:10 First Avenue\, ROSSMOYNE WA 6148
SUMMARY:10 First Avenue\, ROSSMOYNE WA 6148
END:VEVENT
END:VCALENDAR
